BEGIN:VCALENDAR
VERSION:2.0
METHOD:PUBLISH
X-WR-CALNAME:Regueifa | Outubro 25 2024-Novembro 24 2024
PRODID:-//strange bird labs//Drupal iCal API//EN
BEGIN:VEVENT
DTSTAMP;VALUE=DATE-TIME:20260420T225918Z
DTSTART;VALUE=DATE-TIME:20241025T190000Z
DTEND;VALUE=DATE-TIME:20241025T190000Z
UID:https://www.regueifa.org/regueifas-na-biblioteca-municipal-vidal-pazos-de-mar%C3%ADn
URL;VALUE=URI:https://www.regueifa.org/regueifas-na-biblioteca-municipal-vidal-pazos-de-mar%C3%ADn
SUMMARY:Regueifas na Biblioteca Municipal Vidal Pazos de Marín
DESCRIPTION:<p>O Ateneo Santa Cecilia de Marín presenta a actuación dos regueifeiros Suso de Xornes e Bieito Lobariñas na Biblioteca Municipal Vidal Pazos. Entrada de balde ate completar aforo.</p>
 
END:VEVENT
BEGIN:VEVENT
DTSTAMP;VALUE=DATE-TIME:20260420T225918Z
DTSTART;VALUE=DATE-TIME:20241103T173000Z
DTEND;VALUE=DATE-TIME:20241103T173000Z
UID:https://www.regueifa.org/wilson-el-payador-no-xxv-certame-do-humor-do-cvc-de-valladares
URL;VALUE=URI:https://www.regueifa.org/wilson-el-payador-no-xxv-certame-do-humor-do-cvc-de-valladares
SUMMARY:Wilson el payador no XXV Certame do Humor do CVC de Valladares
DESCRIPTION:<p>Improvisador e compositor arxentino. En 2005 impulsou o movemento de improvisadores internacionais \\"Juglares por el mundo\\".</p>
 
END:VEVENT
END:VCALENDAR
