BEGIN:VCALENDAR
VERSION:2.0
METHOD:PUBLISH
X-WR-CALNAME:Regueifa | Agosto 22 2024-Setembro 21 2024
PRODID:-//strange bird labs//Drupal iCal API//EN
BEGIN:VEVENT
DTSTAMP;VALUE=DATE-TIME:20260421T045113Z
DTSTART;VALUE=DATE-TIME:20240903T190000Z
DTEND;VALUE=DATE-TIME:20240907T190000Z
UID:https://www.regueifa.org/regueifas-en-setembro
URL;VALUE=URI:https://www.regueifa.org/regueifas-en-setembro
SUMMARY:REGUEIFAS EN SETEMBRO
DESCRIPTION:<p>Regueifas_público xuvenil e adulto (setembro 2024) Ás 20\:00\, nos seguintes días e lugares\:</p>
 <p>3_martes\, Bieito e Alba na praza do Abanico (na zona vella preto de Casa do Concello)</p>
 <p>4_mércores\, Lupe e Josinho na zona peonil do Calvario</p>
 <p>5_xoves\, Luís e Bieito na alameda de Bouzas</p>
 <p>6_venres\, Alba e Josinho na praza da Independencia</p>
 <p>7_sábado\, Suso e Antonio en Navia (As Teixugueiras\, 22-24)</p>
 <p>Actuacións regueifeiras para público xuvenil e adulto no mes de setembro.</p>
 <p>Actuacións de persoas da Asociación ORAL de Galicia.</p>
 <p><a href=\\"https\://snl.vigo.org/\\" title=\\"https\://snl.vigo.org/\\">https\://snl.vigo.org/</a></p>
 
END:VEVENT
BEGIN:VEVENT
DTSTAMP;VALUE=DATE-TIME:20260421T045113Z
DTSTART;VALUE=DATE-TIME:20240920T190000Z
DTEND;VALUE=DATE-TIME:20240920T200000Z
UID:https://www.regueifa.org/regueifas-no-revoltallo
URL;VALUE=URI:https://www.regueifa.org/regueifas-no-revoltallo
SUMMARY:Regueifas no Revoltallo
DESCRIPTION:<p>Luis e Josinho regueifarán nesta edición do Revoltallo\, a número XXXI. Nun evento cheo de música e actividades para os máis cativos tamén haberá espacio para improvisación en verso.</p>
 
END:VEVENT
END:VCALENDAR
