BEGIN:VCALENDAR
VERSION:2.0
METHOD:PUBLISH
X-WR-CALNAME:Regueifa | Maio 31 2024-Xuño 30 2024
PRODID:-//strange bird labs//Drupal iCal API//EN
BEGIN:VEVENT
DTSTAMP;VALUE=DATE-TIME:20260423T224858Z
DTSTART;VALUE=DATE-TIME:20240601T180500Z
DTEND;VALUE=DATE-TIME:20240601T180500Z
UID:https://www.regueifa.org/congreso-iberoamericano-de-la-d%C3%A9cima-y-el-verso-improvisado
URL;VALUE=URI:https://www.regueifa.org/congreso-iberoamericano-de-la-d%C3%A9cima-y-el-verso-improvisado
SUMMARY:Congreso Iberoamericano de la Décima y el Verso Improvisado
DESCRIPTION:n/a
END:VEVENT
BEGIN:VEVENT
DTSTAMP;VALUE=DATE-TIME:20260423T224858Z
DTSTART;VALUE=DATE-TIME:20240627T180000Z
DTEND;VALUE=DATE-TIME:20240627T180000Z
UID:https://www.regueifa.org/fin-de-curso-ciov
URL;VALUE=URI:https://www.regueifa.org/fin-de-curso-ciov
SUMMARY:Fin de Curso CIOV
END:VEVENT
END:VCALENDAR
