BEGIN:VCALENDAR
VERSION:2.0
METHOD:PUBLISH
X-WR-CALNAME:Regueifa | Decembro 30 2021-Xaneiro 29 2022
PRODID:-//strange bird labs//Drupal iCal API//EN
BEGIN:VEVENT
DTSTAMP;VALUE=DATE-TIME:20260422T122310Z
DTSTART;VALUE=DATE-TIME:20211230T103000Z
DTEND;VALUE=DATE-TIME:20211230T103000Z
UID:https://www.regueifa.org/regueifas-no-programa-no-nadal-un-conto-vigo-0
URL;VALUE=URI:https://www.regueifa.org/regueifas-no-programa-no-nadal-un-conto-vigo-0
SUMMARY:Regueifas no programa \\"No Nadal un conto\\" (Vigo)
DESCRIPTION:n/a
END:VEVENT
BEGIN:VEVENT
DTSTAMP;VALUE=DATE-TIME:20260422T122310Z
DTSTART;VALUE=DATE-TIME:20220108T170000Z
DTEND;VALUE=DATE-TIME:20220108T170000Z
UID:https://www.regueifa.org/premios-galegos-da-regueifa-carballo
URL;VALUE=URI:https://www.regueifa.org/premios-galegos-da-regueifa-carballo
SUMMARY:Premios Galegos da Regueifa (Carballo)
DESCRIPTION:n/a
END:VEVENT
END:VCALENDAR
